BEGIN:VCALENDAR
VERSION:2.0
PRODID:-//UniUpe
CALSCALE:GREGORIAN
METHOD:PUBLISH
X-WR-CALNAME:UniUpe
X-ORIGINAL-URL:https://uniupe.it/eventi/comunicazione-umana-interattiva-webinar-le-offese
X-WR-CALDESC:Sessione: Le Offese
BEGIN:VEVENT
DTSTART:
DTEND:
SUMMARY:Sessione: Le Offese
DESCRIPTION:Comunicazione Umana Interattiva. Le Offese - Parte 1
LOCATION:
END:VEVENT
END:VCALENDAR
